BEGIN:VCALENDAR
VERSION:2.0
PRODID:-//Pôle Coopératif - ECPv6.15.20//NONSGML v1.0//EN
CALSCALE:GREGORIAN
METHOD:PUBLISH
X-WR-CALNAME:Pôle Coopératif
X-ORIGINAL-URL:https://pole-cooperatif.fr
X-WR-CALDESC:Évènements pour Pôle Coopératif
REFRESH-INTERVAL;VALUE=DURATION:PT1H
X-Robots-Tag:noindex
X-PUBLISHED-TTL:PT1H
BEGIN:VTIMEZONE
TZID:UTC
BEGIN:STANDARD
TZOFFSETFROM:+0000
TZOFFSETTO:+0000
TZNAME:UTC
DTSTART:20230101T000000
END:STANDARD
END:VTIMEZONE
BEGIN:VEVENT
DTSTART;TZID=UTC:20240601T140000
DTEND;TZID=UTC:20240601T170000
DTSTAMP:20260419T182008
CREATED:20240527T154656Z
LAST-MODIFIED:20240527T154656Z
UID:801-1717250400-1717261200@pole-cooperatif.fr
SUMMARY:(Re)Connecté
DESCRIPTION:L’évènement numérique à ne pas manquer !\nExpositions\, ateliers\, gagnants du concours photo/vidéo\, représentation théâtrale et bien d’autres surprises !
URL:https://pole-cooperatif.fr/event/reconnecte/
LOCATION:L’escale\, 1 ter rue jean jaurès\, Revigny-sur-ornain\, 55800\, France
CATEGORIES:numerique,partenaires
ATTACH;FMTTYPE=image/jpeg:https://pole-cooperatif.fr/wp-content/uploads/2024/05/440414060_814775910695338_358314103123681855_n.jpg
END:VEVENT
BEGIN:VEVENT
DTSTART;TZID=UTC:20240609T140000
DTEND;TZID=UTC:20240609T170000
DTSTAMP:20260419T182008
CREATED:20240527T155739Z
LAST-MODIFIED:20240527T155811Z
UID:807-1717941600-1717952400@pole-cooperatif.fr
SUMMARY:A la découverte de la nature 2.0
DESCRIPTION:Découvrez la nature à travers un jeu de piste en utilisant votre smartphone.\nChants d’oiseaux\, plantes et arbustes\, empreintes d’animaux\, … Identifiez-les et trouvez le bon code pour déverrouiller le coffre.\nGoûter offert.\nGRATUIT – Places limitées\, inscription conseillée.
URL:https://pole-cooperatif.fr/event/a-la-decouverte-de-la-nature-2-0/
LOCATION:Herberie de la Saulx\, 11 rue de Rippe 55800 Mognéville\, Mognéville\, 55800
CATEGORIES:numerique,partenaires
ATTACH;FMTTYPE=image/png:https://pole-cooperatif.fr/wp-content/uploads/2024/05/nature-2.0-petit.png
END:VEVENT
END:VCALENDAR